Workbook
Name \A: #REF!
Name \A: #REF!
Name \C: [1]Indices!#REF!
Name \C: [1]Indices!#REF!
Name \D: #REF!
Name \D: #REF!
Name _dtf1: #REF!
Name _dtf1: #REF!
Name _F: #REF!
Name _F: #REF!
Name _IMP1013: #REF!
Name _IMP1013: #REF!
Name _imp111: #REF!
Name _imp111: #REF!
Name _imp1110: #REF!
Name _imp1110: #REF!
Name _IMP1111: #REF!
Name _IMP1111: #REF!
Name _IMP1112: #REF!
Name _IMP1112: #REF!
Name _IMP1113: #REF!
Name _IMP1113: #REF!
Name _IMP1114: #REF!
Name _IMP1114: #REF!
Name _IMP1115: #REF!
Name _IMP1115: #REF!
Name _IMP1116: #REF!
Name _IMP1116: #REF!
Name _imp112: #REF!
Name _imp112: #REF!
Name _imp113: #REF!
Name _imp113: #REF!
Name _IMP1132: #REF!
Name _IMP1132: #REF!
Name _IMP1133: #REF!
Name _IMP1133: #REF!
Name _imp114: #REF!
Name _imp114: #REF!
Name _IMP115: #REF!
Name _IMP115: #REF!
Name _IMP116: #REF!
Name _IMP116: #REF!
Name _imp117: #REF!
Name _imp117: #REF!
Name _imp118: #REF!
Name _imp118: #REF!
Name _imp119: #REF!
Name _imp119: #REF!
Name _imp84: #REF!
Name _imp84: #REF!
Name _R: [1]Indices!#REF!
Name _RAN1: [1]Indices!#REF!
Name _SOR1: #REF!
Name _SOR1: #REF!
Name _SOR2: #REF!
Name _SOR2: #REF!
Name _U92016: #REF!
Name _U92016: #REF!
Name _U92017: #REF!
Name _U92017: #REF!

Sheet Supuestos
B2: Promedio DTF 01.01.00-20.04.23 Efectiva | C2: 0.0654
B3: Promedio DTF 01.01.00-20.04.23 Nominal Anual | C3: 0.0635
B4: 4*1000 | C4: =4/1000 -> 0.004
B5: Comisión pago TC | C5: =E31 -> 0.0195125
B6: Comisiones Bancarias | C6: 0.0002
B8: RENTA
B9: AÑO | C9: TASA
B10: 2023-2033 | C10: 0.35
C12: 2013 | D12: 2014 | E12: 2015 | F12: 2016 | G12: 2017 | H12: 2018 | I12: 2019 | J12: 2020 | K12: 2021 | L12: 2022 | M12: 2023 | N12: 2024 | O12: 2025 | P12: 2026 | Q12: 2027 | R12: 2028 | S12: 2029 | T12: 2030 | U12: 2031 | V12: 2032 | W12: 2033 | X12: PROMEDIO 2013-2033 | Y12: PROMEDIO 2013-2022 | Z12: PROMEDIO 2020-2022
B13: IPC | C13: 0.0194 | D13: 0.0366 | E13: 0.0677 | F13: 0.0575 | G13: 0.0409 | H13: 0.0318 | I13: 0.038 | J13: 0.0161 | K13: 0.0562 | L13: 0.1312 | M13: 0.105 | N13: 0.085 | O13: 0.075 | P13: 0.065 | Q13: 0.05 | R13: 0.04 | S13: 0.04 | T13: 0.04 | U13: 0.04 | V13: 0.04 | W13: 0.04 | X13: =AVERAGE(C13:W13) -> 0.053114286 | Y13: =AVERAGE(C13:L13) -> 0.04954 | Z13: =AVERAGE(J13:L13) -> 0.067833333
B14: Aumento Salario Mínimo | C14: 0.0402 | D14: 0.045 | E14: 0.046 | F14: 0.07 | G14: 0.07 | H14: 0.059 | I14: 0.06 | J14: 0.035 | K14: 0.1007 | L14: 0.16 | M14: 0.115 | N14: 0.105 | O14: 0.08 | P14: 0.07 | Q14: 0.06 | R14: 0.05 | S14: 0.05 | T14: 0.05 | U14: 0.05 | V14: 0.05 | W14: 0.05 | X14: =AVERAGE(C14:W14) -> 0.06742381 | Y14: =AVERAGE(C14:L14) -> 0.06859 | Z14: =AVERAGE(J14:L14) -> 0.098566667
B15: Crecimiento PIB | C15: 0.049 | D15: 0.044 | E15: 0.031 | F15: 0.02 | G15: 0.018 | H15: 0.027 | I15: 0.033 | J15: -0.068 | K15: 0.106 | L15: 0.075 | M15: 0.01 | N15: 0.015 | O15: 0.03 | P15: 0.03 | Q15: 0.03 | R15: 0.03 | S15: 0.03 | T15: 0.03 | U15: 0.03 | V15: 0.03 | W15: 0.03 | X15: =AVERAGE(C15:W15) -> 0.03 | Y15: =AVERAGE(C15:L15) -> 0.0335 | Z15: =AVERAGE(J15:L15) -> 0.037666667
B16: DTF Nonimal Anual | C16: 0.0416 | D16: 0.0399 | E16: 0.0446 | F16: 0.0654 | G16: 0.0585 | H16: 0.0462 | I16: 0.044 | J16: 0.0336 | K16: 0.0203 | L16: 0.1291 | M16: 0.12 | N16: 0.09 | O16: 0.08 | P16: 0.07 | Q16: 0.06 | R16: 0.05 | S16: 0.04 | T16: 0.036 | U16: 0.036 | V16: 0.036 | W16: 0.036 | X16: =AVERAGE(C16:W16) -> 0.056057143 | Y16: =AVERAGE(C16:L16) -> 0.05232 | Z16: =AVERAGE(J16:L16) -> 0.061
C19: 2017 | D19: 2018 | E19: 2019 | F19: 2020 | G19: 2021 | H19: 2022 | I19: 2023 | J19: 2024 | K19: 2025 | L19: 2026 | M19: 2027 | N19: 2028 | O19: 2029 | P19: 2030 | Q19: 2031 | R19: 2032 | S19: 2033
B20: Crecimiento Ventas | D20: ='PyG Resumen Histórico'!H4 -> 1.456662 | E20: ='PyG Resumen Histórico'!I4 -> 0.091893192 | F20: ='PyG Resumen Histórico'!J4 -> -0.47738605 | G20: ='PyG Resumen Histórico'!K4 -> 1.1764494 | H20: ='PyG Resumen Histórico'!L4 -> 0.42238946 | I20: 0.2997 | J20: =N13 -> 0.085 | K20: =O13 -> 0.075 | L20: =P13 -> 0.065 | M20: =Q13 -> 0.05 | N20: =R13 -> 0.04 | O20: =S13 -> 0.04 | P20: =T13 -> 0.04 | Q20: =U13 -> 0.04 | ... S20: =W13 -> 0.04
B21: Costo de Ventas / ventas | C21: ='PyG Resumen Histórico'!B5/'PyG Resumen Histórico'!B4 -> 0.57426237 | D21: ='PyG Resumen Histórico'!C5/'PyG Resumen Histórico'!C4 -> 0.5257541 | E21: ='PyG Resumen Histórico'!D5/'PyG Resumen Histórico'!D4 -> 0.64184705 | F21: ='PyG Resumen Histórico'!E5/'PyG Resumen Histórico'!E4 -> 0.75594277 | G21: ='PyG Resumen Histórico'!F5/'PyG Resumen Histórico'!F4 -> 0.70488825 | H21: ='PyG Resumen Histórico'!G5/'PyG Resumen Histórico'!G4 -> 0.67734297 | I21: 0.671 | J21: 0.641 | K21: 0.671 | L21: =K21 -> 0.671 | M21: =L21 -> 0.671 | N21: =M21 -> 0.671 | O21: 0.661 | P21: =O21 -> 0.661 | Q21: 0.673 | R21: =Q21 -> 0.673 | S21: =R21 -> 0.673
B22: Gasto Personal Operacional / Ventas | C22: ='PyG Resumen Histórico'!B14/'PyG Resumen Histórico'!B4 -> 0.039622244 | D22: ='PyG Resumen Histórico'!C14/'PyG Resumen Histórico'!C4 -> 0.199855 | E22: ='PyG Resumen Histórico'!D14/'PyG Resumen Histórico'!D4 -> 0.14930381 | F22: ='PyG Resumen Histórico'!E14/'PyG Resumen Histórico'!E4 -> 0.18089654 | G22: ='PyG Resumen Histórico'!F14/'PyG Resumen Histórico'!F4 -> 0.14160947 | H22: ='PyG Resumen Histórico'!G14/'PyG Resumen Histórico'!G4 -> 0.19520917 | I22: =AVERAGE(D22:H22)+0.4% -> 0.1773748 | J22: =I22 -> 0.1773748 | K22: =J22 -> 0.1773748 | L22: =AVERAGE(G22:K22) -> 0.17378861 | M22: =AVERAGE(H22:L22) -> 0.18022444 | N22: =AVERAGE(I22:M22) -> 0.17722749 | O22: =AVERAGE(J22:N22) -> 0.17719803 | P22: =AVERAGE(K22:O22) -> 0.17716267 | Q22: =AVERAGE(L22:P22) -> 0.17712025 | R22: =AVERAGE(M22:Q22) -> 0.17778657 | S22: =AVERAGE(N22:R22) -> 0.177299
B23: Honorarios / Ventas | C23: ='PyG Resumen Histórico'!B15/'PyG Resumen Histórico'!B4 -> 0.013178943 | D23: ='PyG Resumen Histórico'!C15/'PyG Resumen Histórico'!C4 -> 0.012057807 | E23: ='PyG Resumen Histórico'!D15/'PyG Resumen Histórico'!D4 -> 0.012569446 | F23: ='PyG Resumen Histórico'!E15/'PyG Resumen Histórico'!E4 -> 0.022098916 | G23: ='PyG Resumen Histórico'!F15/'PyG Resumen Histórico'!F4 -> 0.011351397 | H23: ='PyG Resumen Histórico'!G15/'PyG Resumen Histórico'!G4 -> 0.010559687 | I23: =AVERAGE(D23:H23) -> 0.013727451 | J23: =AVERAGE(E23:I23) -> 0.014061379 | K23: =AVERAGE(F23:J23) -> 0.014359766 | L23: =AVERAGE(G23:K23) -> 0.012811936 | M23: =AVERAGE(H23:L23) -> 0.013104044 | N23: =AVERAGE(I23:M23) -> 0.013612915 | O23: =AVERAGE(J23:N23) -> 0.013590008 | P23: =AVERAGE(K23:O23) -> 0.013495734 | ... S23: =AVERAGE(N23:R23) -> 0.013489342
B24: Otros / Ventas | C24: ='PyG Resumen Histórico'!B16/'PyG Resumen Histórico'!B4 -> 0.29259249 | D24: ='PyG Resumen Histórico'!C16/'PyG Resumen Histórico'!C4 -> 0.17153505 | E24: ='PyG Resumen Histórico'!D16/'PyG Resumen Histórico'!D4 -> 0.11365997 | F24: ='PyG Resumen Histórico'!E16/'PyG Resumen Histórico'!E4 -> 0.084672238 | G24: ='PyG Resumen Histórico'!F16/'PyG Resumen Histórico'!F4 -> 0.055054829 | H24: ='PyG Resumen Histórico'!G16/'PyG Resumen Histórico'!G4 -> 0.055287624 | I24: =AVERAGE(D24:H24)+0.1% -> 0.097041943 | J24: =I24 -> 0.097041943 | K24: =J24 -> 0.097041943 | L24: =K24 -> 0.097041943 | M24: =L24 -> 0.097041943 | N24: =M24 -> 0.097041943 | O24: =N24 -> 0.097041943 | P24: =O24 -> 0.097041943 | Q24: =P24 -> 0.097041943 | ... S24: =R24 -> 0.097041943
B27: Puntos de Venta | C27: Promedio Pond | D27: Comisión Tarjeta Crédito
B28: 4 | C28: =B28/$B$31 -> 0.5 | D28: 0.0159 | E28: =C28*D28 -> 0.00795
B29: 1 | C29: =B29/$B$31 -> 0.125 | D29: 0.019 | E29: =C29*D29 -> 0.002375
B30: 3 | C30: =B30/$B$31 -> 0.375 | D30: 0.0245 | E30: =C30*D30 -> 0.0091875
B31: =SUM(B28:B30) -> 8 | C31: =SUM(C28:C30) -> 1 | E31: =SUM(E28:E30) -> 0.0195125

Sheet FC 2023-2033
A1: ACUERDO ALIMENTOS BENAL S.A.S
A2: FLUJO DE CAJA SEPTIEMBRE 2023 - AGOSTO 2033
A3: Cifras en $000
B4: 1 | C4: 2 | D4: 3 | E4: 4 | F4: 5 | G4: 6 | H4: 7 | I4: 8 | J4: 9 | K4: 10 | L4: 11 | M4: 12 | N4: 13 | O4: 14 | P4: 15 | Q4: 16 | R4: 17 | S4: 18 | T4: 19 | U4: 20 | V4: 21 | W4: 22 | X4: 23 | Y4: 24 | Z4: 25 | AA4: 26 | AB4: 27 | AC4: 28 | AD4: 29 | AE4: 30 | AF4: 31 | AG4: 32 | AH4: 33 | AI4: 34 | AJ4: 35 | AK4: 36 | AL4: 37 | AM4: 38 | AN4: 39 | AO4: 40 | AP4: 41 | AQ4: 42 | AR4: 43 | AS4: 44 | AT4: 45 | AU4: 46 | AV4: 47 | AW4: 48 | AX4: 49 | AY4: 50 | AZ4: 51 | BA4: 52 | BB4: 53 | BC4: 54 | BD4: 55 | BE4: 56 | BF4: 57 | BG4: 58 | BH4: 59 | BI4: 60 | BJ4: 61 | BK4: 62 | BL4: 63 | BM4: 64 | BN4: 65 | BO4: 66 | BP4: 67 | BQ4: 68 | BR4: 69 | BS4: 70 | BT4: 71 | BU4: 72 | BV4: 73 | BW4: 74 | BX4: 75 | BY4: 76 | BZ4: 77 | CA4: 78 | CB4: 79 | CC4: 80 | CD4: 81 | CE4: 82 | CF4: 83 | CG4: 84 | CH4: 85 | CI4: 86 | CJ4: 87 | CK4: 88 | CL4: 89 | CM4: 90 | CN4: 91 | CO4: 92 | CP4: 93 | CQ4: 94 | CR4: 95 | CS4: 96 | CT4: 97 | CU4: 98 | CV4: 99 | CW4: 100 | CX4: 101 | CY4: 102 | CZ4: 103 | DA4: 104 | DB4: 105 | DC4: 106 | DD4: 107 | DE4: 108 | DF4: 109 | DG4: 110 | DH4: 111 | DI4: 112 | DJ4: 113 | DK4: 114 | DL4: 115 | DM4: 116 | DN4: 117 | DO4: 118 | DP4: 119 | DQ4: 120
B5: 45170 | C5: 45200 | D5: 45231 | E5: 45261 | F5: 45292 | G5: 45323 | H5: 45352 | I5: 45383 | J5: 45413 | K5: 45444 | L5: 45474 | M5: 45505 | N5: 45536 | O5: 45566 | P5: 45597 | Q5: 45627 | R5: 45658 | S5: 45689 | T5: 45717 | U5: 45748 | V5: 45778 | W5: 45809 | X5: 45839 | Y5: 45870 | Z5: 45901 | AA5: 45931 | AB5: 45962 | AC5: 45992 | AD5: 46023 | AE5: 46054 | AF5: 46082 | AG5: 46113 | AH5: 46143 | AI5: 46174 | AJ5: 46204 | AK5: 46235 | AL5: 46266 | AM5: 46296 | AN5: 46327 | AO5: 46357 | AP5: 46388 | AQ5: 46419 | AR5: 46447 | AS5: 46478 | AT5: 46508 | AU5: 46539 | AV5: 46569 | AW5: 46600 | AX5: 46631 | AY5: 46661 | AZ5: 46692 | BA5: 46722 | BB5: 46753 | BC5: 46784 | BD5: 46813 | BE5: 46844 | BF5: 46874 | BG5: 46905 | BH5: 46935 | BI5: 46966 | BJ5: 46997 | BK5: 47027 | BL5: 47058 | BM5: 47088 | BN5: 47119 | BO5: 47150 | BP5: 47178 | BQ5: 47209 | BR5: 47239 | BS5: 47270 | BT5: 47300 | BU5: 47331 | BV5: 47362 | BW5: 47392 | BX5: 47423 | BY5: 47453 | BZ5: 47484 | CA5: 47515 | CB5: 47543 | CC5: 47574 | CD5: 47604 | CE5: 47635 | CF5: 47665 | CG5: 47696 | CH5: 47727 | CI5: 47757 | CJ5: 47788 | CK5: 47818 | CL5: 47849 | CM5: 47880 | CN5: 47908 | CO5: 47939 | CP5: 47969 | CQ5: 48000 | CR5: 48030 | CS5: 48061 | CT5: 48092 | CU5: 48122 | CV5: 48153 | CW5: 48183 | CX5: 48214 | CY5: 48245 | CZ5: 48274 | DA5: 48305 | DB5: 48335 | DC5: 48366 | DD5: 48396 | DE5: 48427 | DF5: 48458 | DG5: 48488 | DH5: 48519 | DI5: 48549 | DJ5: 48580 | DK5: 48611 | DL5: 48639 | DM5: 48670 | DN5: 48700 | DO5: 48731 | DP5: 48761 | DQ5: 48792 | DS5: 2023 (4meses) | DT5: 2024 | DU5: 2025 | DV5: 2026 | DW5: 2027 | DX5: 2028 | DY5: 2029 | DZ5: 2030 | EA5: 2031 | EB5: 2032 | EC5: 2033 (8 meses) | EE5: TOTAL
A6: INGRESOS OPERACIONALES
A7: Ventas | B7: =(2635391388/1000)+227997 -> 2863388.4 | C7: =(2648386612/1000)+237986 -> 2886372.6 | D7: =(2552344431/1000)+234069 -> 2786413.4 | E7: =(3490445764/1000)+328022 -> 3818467.8 | F7: =((2104460264/1000)+260546)*((Supuestos!$N$13)+1) -> 2566031.8 | G7: =((2033230274/1000)+260546)*((Supuestos!$N$13)+1) -> 2488747.3 | H7: =((2729566488/1000)+260546)*((Supuestos!$N$13)+1) -> 3244272 | I7: =((2275846274/1000)+260546)*((Supuestos!$N$13)+1) -> 2751985.6 | J7: =((2768962092/1000)+260546)*((Supuestos!$N$13)+1) -> 3287016.3 | K7: 2849784.4 | L7: 3354500.3 | M7: 3042871 | N7: =B7*((Supuestos!$N$13)+1) -> 3106776.4 | O7: =C7*((Supuestos!$N$13)+1) -> 3131714.3 | P7: =D7*((Supuestos!$N$13)+1) -> 3023258.6 | Q7: =E7*((Supuestos!$N$13)+1) -> 4143037.5 | R7: =F7*((Supuestos!$O$13)+1) -> 2758484.2 | S7: =G7*((Supuestos!$O$13)+1) -> 2675403.3 | T7: =H7*((Supuestos!$O$13)+1) -> 3487592.5 | U7: =I7*((Supuestos!$O$13)+1) -> 2958384.5 | V7: =J7*((Supuestos!$O$13)+1) -> 3533542.5 | W7: =K7*((Supuestos!$O$13)+1) -> 3063518.3 | X7: =L7*((Supuestos!$O$13)+1) -> 3606087.8 | Y7: =M7*((Supuestos!$O$13)+1) -> 3271086.3 | ... AC7: =Q7*((Supuestos!$O$13)+1) -> 4453765.3 | AD7: =R7*((Supuestos!$P$13)+1) -> 2937785.7 | AE7: =S7*((Supuestos!$P$13)+1) -> 2849304.5 | AF7: =T7*((Supuestos!$P$13)+1) -> 3714286 | AG7: =U7*((Supuestos!$P$13)+1) -> 3150679.5 | AH7: =V7*((Supuestos!$P$13)+1) -> 3763222.8 | AI7: =W7*((Supuestos!$P$13)+1) -> 3262646.9 | AJ7: =X7*((Supuestos!$P$13)+1) -> 3840483.5 | AK7: =Y7*((Supuestos!$P$13)+1) -> 3483706.9 | ... AO7: =AC7*((Supuestos!$P$13)+1) -> 4743260.1 | AP7: =AD7*((Supuestos!$Q$13)+1) -> 3084674.9 | AQ7: =AE7*((Supuestos!$Q$13)+1) -> 2991769.7 | AR7: =AF7*((Supuestos!$Q$13)+1) -> 3900000.3 | AS7: =AG7*((Supuestos!$Q$13)+1) -> 3308213.5 | AT7: =AH7*((Supuestos!$Q$13)+1) -> 3951383.9 | AU7: =AI7*((Supuestos!$Q$13)+1) -> 3425779.3 | AV7: =AJ7*((Supuestos!$Q$13)+1) -> 4032507.7 | AW7: =AK7*((Supuestos!$Q$13)+1) -> 3657892.3 | ... BA7: =AO7*((Supuestos!$Q$13)+1) -> 4980423.1 | BB7: =AP7*((Supuestos!$R$13)+1) -> 3208061.9 | BC7: =AQ7*((Supuestos!$R$13)+1) -> 3111440.5 | BD7: =AR7*((Supuestos!$R$13)+1) -> 4056000.3 | BE7: =AS7*((Supuestos!$R$13)+1) -> 3440542.1 | BF7: =AT7*((Supuestos!$R$13)+1) -> 4109439.3 | BG7: =AU7*((Supuestos!$R$13)+1) -> 3562810.5 | BH7: =AV7*((Supuestos!$R$13)+1) -> 4193808 | BI7: =AW7*((Supuestos!$R$13)+1) -> 3804208 | ... BM7: =BA7*((Supuestos!$R$13)+1) -> 5179640 | BN7: =BB7*((Supuestos!$S$13)+1) -> 3336384.4 | BO7: =BC7*((Supuestos!$S$13)+1) -> 3235898.2 | BP7: =BD7*((Supuestos!$S$13)+1) -> 4218240.3 | BQ7: =BE7*((Supuestos!$S$13)+1) -> 3578163.7 | BR7: =BF7*((Supuestos!$S$13)+1) -> 4273816.8 | BS7: =BG7*((Supuestos!$S$13)+1) -> 3705322.9 | BT7: =BH7*((Supuestos!$S$13)+1) -> 4361560.3 | BU7: =BI7*((Supuestos!$S$13)+1) -> 3956376.3 | ... BY7: =BM7*((Supuestos!$S$13)+1) -> 5386825.6 | BZ7: =BN7*((Supuestos!$T$13)+1) -> 3469839.8 | CA7: =BO7*((Supuestos!$T$13)+1) -> 3365334.1 | CB7: =BP7*((Supuestos!$T$13)+1) -> 4386969.9 | CC7: =BQ7*((Supuestos!$T$13)+1) -> 3721290.3 | CD7: =BR7*((Supuestos!$T$13)+1) -> 4444769.5 | CE7: =BS7*((Supuestos!$T$13)+1) -> 3853535.8 | CF7: =BT7*((Supuestos!$T$13)+1) -> 4536022.7 | CG7: =BU7*((Supuestos!$T$13)+1) -> 4114631.4 | ... CK7: =BY7*((Supuestos!$T$13)+1) -> 5602298.6 | CL7: =BZ7*((Supuestos!$U$13)+1) -> 3608633.4 | CM7: =CA7*((Supuestos!$U$13)+1) -> 3499947.4 | CN7: =CB7*((Supuestos!$U$13)+1) -> 4562448.7 | CO7: =CC7*((Supuestos!$U$13)+1) -> 3870141.9 | CP7: =CD7*((Supuestos!$U$13)+1) -> 4622560.3 | CQ7: =CE7*((Supuestos!$U$13)+1) -> 4007677.2 | CR7: =CF7*((Supuestos!$U$13)+1) -> 4717463.7 | CS7: =CG7*((Supuestos!$U$13)+1) -> 4279216.6 | ... CW7: =CK7*((Supuestos!$U$13)+1) -> 5826390.6 | CX7: =CL7*((Supuestos!$V$13)+1) -> 3752978.7 | CY7: =CM7*((Supuestos!$V$13)+1) -> 3639945.3 | CZ7: =CN7*((Supuestos!$V$13)+1) -> 4744946.6 | DA7: =CO7*((Supuestos!$V$13)+1) -> 4024947.6 | DB7: =CP7*((Supuestos!$V$13)+1) -> 4807462.7 | DC7: =CQ7*((Supuestos!$V$13)+1) -> 4167984.3 | DD7: =CR7*((Supuestos!$V$13)+1) -> 4906162.2 | DE7: =CS7*((Supuestos!$V$13)+1) -> 4450385.3 | ... DQ7: =DE7*((Supuestos!$V$13)+1) -> 4628400.7 | DS7: =SUM(B7:E7) -> 12354642 | DT7: =SUM(F7:Q7) -> 36989996 | DU7: =SUM(R7:AC7) -> 39764245 | DV7: =SUM(AD7:AO7) -> 42348921 | DW7: =SUM(AP7:BA7) -> 44466367 | DX7: =SUM(BB7:BM7) -> 46245022 | DY7: =SUM(BN7:BY7) -> 48094823 | DZ7: =SUM(BZ7:CK7) -> 50018616 | EA7: =SUM(CL7:CW7) -> 52019360 | EB7: =SUM(CX7:DI7) -> 54100135 | EC7: =SUM(DJ7:DQ7) -> 35874605 | EE7: =SUM(DS7:EC7) -> 4.6227673e+08
A10: COSTO DE VENTAS | B10: =B7*Supuestos!$I$21 -> 1921333.6 | C10: =C7*Supuestos!$I$21 -> 1936756 | D10: =D7*Supuestos!$I$21 -> 1869683.4 | E10: =E7*Supuestos!$I$21 -> 2562191.9 | F10: =F7*Supuestos!$J$21 -> 1644826.4 | G10: =G7*Supuestos!$J$21 -> 1595287 | H10: =H7*Supuestos!$J$21 -> 2079578.4 | I10: =I7*Supuestos!$J$21 -> 1764022.8 | J10: =J7*Supuestos!$J$21 -> 2106977.4 | K10: =K7*Supuestos!$J$21 -> 1826711.8 | L10: =L7*Supuestos!$J$21 -> 2150234.7 | M10: =M7*Supuestos!$J$21 -> 1950480.3 | ... Q10: =Q7*Supuestos!$J$21 -> 2655687.1 | R10: =R7*Supuestos!$K$21 -> 1850942.9 | S10: =S7*Supuestos!$K$21 -> 1795195.6 | T10: =T7*Supuestos!$K$21 -> 2340174.5 | U10: =U7*Supuestos!$K$21 -> 1985076 | V10: =V7*Supuestos!$K$21 -> 2371007 | W10: =W7*Supuestos!$K$21 -> 2055620.7 | X10: =X7*Supuestos!$K$21 -> 2419684.9 | Y10: =Y7*Supuestos!$K$21 -> 2194898.9 | ... AC10: =AC7*Supuestos!$K$21 -> 2988476.5 | AD10: =AD7*Supuestos!$L$21 -> 1971254.2 | AE10: =AE7*Supuestos!$L$21 -> 1911883.3 | AF10: =AF7*Supuestos!$L$21 -> 2492285.9 | AG10: =AG7*Supuestos!$L$21 -> 2114106 | AH10: =AH7*Supuestos!$L$21 -> 2525122.5 | AI10: =AI7*Supuestos!$L$21 -> 2189236.1 | AJ10: =AJ7*Supuestos!$L$21 -> 2576964.4 | AK10: =AK7*Supuestos!$L$21 -> 2337567.4 | ... AO10: =AO7*Supuestos!$L$21 -> 3182727.5 | AP10: =AP7*Supuestos!$M$21 -> 2069816.9 | AQ10: =AQ7*Supuestos!$M$21 -> 2007477.5 | AR10: =AR7*Supuestos!$M$21 -> 2616900.2 | AS10: =AS7*Supuestos!$M$21 -> 2219811.3 | AT10: =AT7*Supuestos!$M$21 -> 2651378.6 | AU10: =AU7*Supuestos!$M$21 -> 2298697.9 | AV10: =AV7*Supuestos!$M$21 -> 2705812.7 | AW10: =AW7*Supuestos!$M$21 -> 2454445.7 | ... BA10: =BA7*Supuestos!$M$21 -> 3341863.9 | BB10: =BB7*Supuestos!$N$21 -> 2152609.6 | BC10: =BC7*Supuestos!$N$21 -> 2087776.6 | BD10: =BD7*Supuestos!$N$21 -> 2721576.2 | BE10: =BE7*Supuestos!$N$21 -> 2308603.7 | BF10: =BF7*Supuestos!$N$21 -> 2757433.7 | BG10: =BG7*Supuestos!$N$21 -> 2390645.8 | BH10: =BH7*Supuestos!$N$21 -> 2814045.2 | BI10: =BI7*Supuestos!$N$21 -> 2552623.6 | ... BM10: =BM7*Supuestos!$N$21 -> 3475538.4 | BN10: =BN7*Supuestos!$O$21 -> 2205350.1 | BO10: =BO7*Supuestos!$O$21 -> 2138928.7 | BP10: =BP7*Supuestos!$O$21 -> 2788256.8 | BQ10: =BQ7*Supuestos!$O$21 -> 2365166.2 | BR10: =BR7*Supuestos!$O$21 -> 2824992.9 | BS10: =BS7*Supuestos!$O$21 -> 2449218.4 | BT10: =BT7*Supuestos!$O$21 -> 2882991.4 | BU10: =BU7*Supuestos!$O$21 -> 2615164.7 | ... BY10: =BY7*Supuestos!$O$21 -> 3560691.7 | BZ10: =BZ7*Supuestos!$P$21 -> 2293564.1 | CA10: =CA7*Supuestos!$P$21 -> 2224485.8 | CB10: =CB7*Supuestos!$P$21 -> 2899787.1 | CC10: =CC7*Supuestos!$P$21 -> 2459772.9 | CD10: =CD7*Supuestos!$P$21 -> 2937992.6 | CE10: =CE7*Supuestos!$P$21 -> 2547187.2 | CF10: =CF7*Supuestos!$P$21 -> 2998311 | CG10: =CG7*Supuestos!$P$21 -> 2719771.3 | ... CK10: =CK7*Supuestos!$P$21 -> 3703119.4 | CL10: =CL7*Supuestos!$Q$21 -> 2428610.3 | CM10: =CM7*Supuestos!$Q$21 -> 2355464.6 | CN10: =CN7*Supuestos!$Q$21 -> 3070528 | CO10: =CO7*Supuestos!$Q$21 -> 2604605.5 | CP10: =CP7*Supuestos!$Q$21 -> 3110983.1 | CQ10: =CQ7*Supuestos!$Q$21 -> 2697166.8 | CR10: =CR7*Supuestos!$Q$21 -> 3174853 | CS10: =CS7*Supuestos!$Q$21 -> 2879912.8 | ... CW10: =CW7*Supuestos!$Q$21 -> 3921160.9 | CX10: =CX7*Supuestos!$R$21 -> 2525754.7 | CY10: =CY7*Supuestos!$R$21 -> 2449683.2 | CZ10: =CZ7*Supuestos!$R$21 -> 3193349.1 | DA10: =DA7*Supuestos!$R$21 -> 2708789.7 | DB10: =DB7*Supuestos!$R$21 -> 3235422.4 | DC10: =DC7*Supuestos!$R$21 -> 2805053.4 | DD10: =DD7*Supuestos!$R$21 -> 3301847.2 | DE10: =DE7*Supuestos!$R$21 -> 2995109.3 | ... DI10: =DI7*Supuestos!$R$21 -> 4078007.3 | DJ10: =DJ7*Supuestos!$S$21 -> 2626784.9 | DK10: =DK7*Supuestos!$S$21 -> 2547670.5 | DL10: =DL7*Supuestos!$S$21 -> 3321083 | DM10: =DM7*Supuestos!$S$21 -> 2817141.3 | DN10: =DN7*Supuestos!$S$21 -> 3364839.3 | DO10: =DO7*Supuestos!$S$21 -> 2917255.6 | DP10: =DP7*Supuestos!$S$21 -> 3433921 | DQ10: =DQ7*Supuestos!$S$21 -> 3114913.7 | DS10: =SUM(B10:E10) -> 8289964.9 | DT10: =SUM(F10:Q10) -> 23710587 | DU10: =SUM(R10:AC10) -> 26681809 | DV10: =SUM(AD10:AO10) -> 28416126 | DW10: =SUM(AP10:BA10) -> 29836932 | DX10: =SUM(BB10:BM10) -> 31030410 | DY10: =SUM(BN10:BY10) -> 31790678 | DZ10: =SUM(BZ10:CK10) -> 33062305 | EA10: =SUM(CL10:CW10) -> 35009029 | EB10: =SUM(CX10:DI10) -> 36409391 | EC10: =SUM(DJ10:DQ10) -> 24143609 | EE10: =SUM(DS10:EC10) -> 3.0838084e+08
A12: = UTILIDAD BRUTA | B12: =B7-B10 -> 942054.78 | C12: =C7-C10 -> 949616.59 | D12: =D7-D10 -> 916730.02 | E12: =E7-E10 -> 1256275.9 | F12: =F7-F10 -> 921205.41 | G12: =G7-G10 -> 893460.27 | H12: =H7-H10 -> 1164693.7 | I12: =I7-I10 -> 987962.84 | ... DQ12: =DQ7-DQ10 -> 1513487 | DS12: =DS7-DS10 -> 4064677.3 | DT12: =DT7-DT10 -> 13279408 | DU12: =DU7-DU10 -> 13082437 | DV12: =DV7-DV10 -> 13932795 | DW12: =DW7-DW10 -> 14629435 | DX12: =DX7-DX10 -> 15214612 | DY12: =DY7-DY10 -> 16304145 | DZ12: =DZ7-DZ10 -> 16956311 | ... EC12: =EC7-EC10 -> 11730996 | EE12: =SUM(DS12:EC12) -> 1.5389589e+08
A13: Margen Bruto | B13: =B12/B7 -> 0.329 | C13: =C12/C7 -> 0.329 | D13: =D12/D7 -> 0.329 | E13: =E12/E7 -> 0.329 | F13: =F12/F7 -> 0.359 | G13: =G12/G7 -> 0.359 | H13: =H12/H7 -> 0.359 | I13: =I12/I7 -> 0.359 | ... DQ13: =DQ12/DQ7 -> 0.327 | DS13: =DS12/DS7 -> 0.329 | DT13: =DT12/DT7 -> 0.359 | DU13: =DU12/DU7 -> 0.329 | DV13: =DV12/DV7 -> 0.329 | DW13: =DW12/DW7 -> 0.329 | DX13: =DX12/DX7 -> 0.329 | DY13: =DY12/DY7 -> 0.339 | DZ13: =DZ12/DZ7 -> 0.339 | ... EC13: =EC12/EC7 -> 0.327 | EE13: =AVERAGE(DS13:EC13) -> 0.333
A17: - GASTOS OPERACIONALES
A19: Gastos de Personal | B19: =B7*Supuestos!$I$22 -> 507892.94 | C19: =C7*Supuestos!$I$22 -> 511969.76 | D19: =D7*Supuestos!$I$22 -> 494239.52 | E19: =E7*Supuestos!$I$22 -> 677299.95 | F19: =F7*Supuestos!$J$22 -> 455149.37 | G19: =G7*Supuestos!$J$22 -> 441441.05 | H19: =H7*Supuestos!$J$22 -> 575452.1 | I19: =I7*Supuestos!$J$22 -> 488132.9 | J19: =J7*Supuestos!$J$22 -> 583033.85 | K19: =K7*Supuestos!$J$22 -> 505479.94 | L19: =L7*Supuestos!$J$22 -> 595003.82 | M19: =M7*Supuestos!$J$22 -> 539728.63 | ... Q19: =Q7*Supuestos!$J$22 -> 734870.45 | R19: =R7*Supuestos!$K$22 -> 489285.58 | S19: =S7*Supuestos!$K$22 -> 474549.12 | T19: =T7*Supuestos!$K$22 -> 618611.01 | U19: =U7*Supuestos!$K$22 -> 524742.86 | V19: =V7*Supuestos!$K$22 -> 626761.39 | W19: =W7*Supuestos!$K$22 -> 543390.94 | X19: =X7*Supuestos!$K$22 -> 639629.1 | Y19: =Y7*Supuestos!$K$22 -> 580208.28 | ... AC19: =AC7*Supuestos!$K$22 -> 789985.73 | AD19: =AD7*Supuestos!$L$22 -> 510553.68 | AE19: =AE7*Supuestos!$L$22 -> 495176.66 | AF19: =AF7*Supuestos!$L$22 -> 645500.58 | AG19: =AG7*Supuestos!$L$22 -> 547552.21 | AH19: =AH7*Supuestos!$L$22 -> 654005.24 | AI19: =AI7*Supuestos!$L$22 -> 567010.87 | AJ19: =AJ7*Supuestos!$L$22 -> 667432.28 | AK19: =AK7*Supuestos!$L$22 -> 605428.58 | ... AO19: =AO7*Supuestos!$L$22 -> 824324.56 | AP19: =AP7*Supuestos!$M$22 -> 555933.8 | AQ19: =AQ7*Supuestos!$M$22 -> 539190.01 | AR19: =AR7*Supuestos!$M$22 -> 702875.35 | AS19: =AS7*Supuestos!$M$22 -> 596220.91 | AT19: =AT7*Supuestos!$M$22 -> 712135.93 | AU19: =AU7*Supuestos!$M$22 -> 617409.14 | AV19: =AV7*Supuestos!$M$22 -> 726756.43 | AW19: =AW7*Supuestos!$M$22 -> 659241.57 | ... BA19: =BA7*Supuestos!$M$22 -> 897593.94 | BB19: =BB7*Supuestos!$N$22 -> 568556.76 | BC19: =BC7*Supuestos!$N$22 -> 551432.79 | BD19: =BD7*Supuestos!$N$22 -> 718834.74 | BE19: =BE7*Supuestos!$N$22 -> 609758.63 | BF19: =BF7*Supuestos!$N$22 -> 728305.6 | BG19: =BG7*Supuestos!$N$22 -> 631427.95 | BH19: =BH7*Supuestos!$N$22 -> 743258.06 | BI19: =BI7*Supuestos!$N$22 -> 674210.22 | ... BM19: =BM7*Supuestos!$N$22 -> 917974.59 | BN19: =BN7*Supuestos!$O$22 -> 591200.73 | BO19: =BO7*Supuestos!$O$22 -> 573394.76 | BP19: =BP7*Supuestos!$O$22 -> 747463.85 | BQ19: =BQ7*Supuestos!$O$22 -> 634043.55 | BR19: =BR7*Supuestos!$O$22 -> 757311.91 | BS19: =BS7*Supuestos!$O$22 -> 656575.9 | BT19: =BT7*Supuestos!$O$22 -> 772859.88 | BU19: =BU7*Supuestos!$O$22 -> 701062.07 | ... BY19: =BY7*Supuestos!$O$22 -> 954534.86 | BZ19: =BZ7*Supuestos!$P$22 -> 614726.09 | CA19: =CA7*Supuestos!$P$22 -> 596211.58 | CB19: =CB7*Supuestos!$P$22 -> 777207.3 | CC19: =CC7*Supuestos!$P$22 -> 659273.73 | CD19: =CD7*Supuestos!$P$22 -> 787447.24 | CE19: =CE7*Supuestos!$P$22 -> 682702.69 | CF19: =CF7*Supuestos!$P$22 -> 803613.91 | CG19: =CG7*Supuestos!$P$22 -> 728959.08 | ... CK19: =CK7*Supuestos!$P$22 -> 992518.19 | CL19: =CL7*Supuestos!$Q$22 -> 639162.03 | CM19: =CM7*Supuestos!$Q$22 -> 619911.55 | CN19: =CN7*Supuestos!$Q$22 -> 808102.03 | CO19: =CO7*Supuestos!$Q$22 -> 685480.48 | CP19: =CP7*Supuestos!$Q$22 -> 818749.01 | CQ19: =CQ7*Supuestos!$Q$22 -> 709840.77 | CR19: =CR7*Supuestos!$Q$22 -> 835558.32 | CS19: =CS7*Supuestos!$Q$22 -> 757935.9 | ... CW19: =CW7*Supuestos!$Q$22 -> 1031971.7 | CX19: =CX7*Supuestos!$R$22 -> 667229.23 | CY19: =CY7*Supuestos!$R$22 -> 647133.41 | CZ19: =CZ7*Supuestos!$R$22 -> 843587.8 | DA19: =DA7*Supuestos!$R$22 -> 715581.64 | DB19: =DB7*Supuestos!$R$22 -> 854702.32 | DC19: =DC7*Supuestos!$R$22 -> 741011.65 | DD19: =DD7*Supuestos!$R$22 -> 872249.77 | DE19: =DE7*Supuestos!$R$22 -> 791218.75 | ... DI19: =DI7*Supuestos!$R$22 -> 1077288.2 | DJ19: =DJ7*Supuestos!$S$22 -> 692015.35 | DK19: =DK7*Supuestos!$S$22 -> 671173.02 | DL19: =DL7*Supuestos!$S$22 -> 874925.27 | DM19: =DM7*Supuestos!$S$22 -> 742163.95 | DN19: =DN7*Supuestos!$S$22 -> 886452.67 | DO19: =DO7*Supuestos!$S$22 -> 768538.63 | DP19: =DP7*Supuestos!$S$22 -> 904651.96 | DQ19: =DQ7*Supuestos!$S$22 -> 820610.82 | DS19: =SUM(B19:E19) -> 2191402.2 | DT19: =SUM(F19:Q19) -> 6561093 | DU19: =SUM(R19:AC19) -> 7053175 | DV19: =SUM(AD19:AO19) -> 7359760 | DW19: =SUM(AP19:BA19) -> 8013925.9 | DX19: =SUM(BB19:BM19) -> 8195889.1 | DY19: =SUM(BN19:BY19) -> 8522307.6 | DZ19: =SUM(BZ19:CK19) -> 8861431.6 | EA19: =SUM(CL19:CW19) -> 9213681.9 | EB19: =SUM(CX19:DI19) -> 9618277.6 | EC19: =SUM(DJ19:DQ19) -> 6360531.7 | EE19: =SUM(DS19:EC19) -> 81951476
A20: Honorarios | B20: =B7*Supuestos!$I$23 -> 39307.023 | C20: =C7*Supuestos!$I$23 -> 39622.538 | D20: =D7*Supuestos!$I$23 -> 38250.353 | E20: =E7*Supuestos!$I$23 -> 52417.828 | F20: =F7*Supuestos!$J$23 -> 36081.947 | G20: =G7*Supuestos!$J$23 -> 34995.22 | H20: =H7*Supuestos!$J$23 -> 45618.94 | I20: =I7*Supuestos!$J$23 -> 38696.714 | J20: =J7*Supuestos!$J$23 -> 46219.983 | K20: =K7*Supuestos!$J$23 -> 40071.9 | L20: =L7*Supuestos!$J$23 -> 47168.902 | M20: =M7*Supuestos!$J$23 -> 42786.964 | ... Q20: =Q7*Supuestos!$J$23 -> 58256.823 | R20: =R7*Supuestos!$K$23 -> 39611.188 | S20: =S7*Supuestos!$K$23 -> 38418.166 | T20: =T7*Supuestos!$K$23 -> 50081.012 | U20: =U7*Supuestos!$K$23 -> 42481.71 | V20: =V7*Supuestos!$K$23 -> 50740.844 | W20: =W7*Supuestos!$K$23 -> 43991.406 | X20: =X7*Supuestos!$K$23 -> 51782.578 | Y20: =Y7*Supuestos!$K$23 -> 46972.035 | ... AC20: =AC7*Supuestos!$K$23 -> 63955.029 | AD20: =AD7*Supuestos!$L$23 -> 37638.722 | AE20: =AE7*Supuestos!$L$23 -> 36505.108 | AF20: =AF7*Supuestos!$L$23 -> 47587.195 | AG20: =AG7*Supuestos!$L$23 -> 40366.305 | AH20: =AH7*Supuestos!$L$23 -> 48214.17 | AI20: =AI7*Supuestos!$L$23 -> 41800.824 | AJ20: =AJ7*Supuestos!$L$23 -> 49204.03 | AK20: =AK7*Supuestos!$L$23 -> 44633.031 | ... AO20: =AO7*Supuestos!$L$23 -> 60770.345 | AP20: =AP7*Supuestos!$M$23 -> 40421.716 | AQ20: =AQ7*Supuestos!$M$23 -> 39204.282 | AR20: =AR7*Supuestos!$M$23 -> 51105.775 | AS20: =AS7*Supuestos!$M$23 -> 43350.975 | AT20: =AT7*Supuestos!$M$23 -> 51779.108 | AU20: =AU7*Supuestos!$M$23 -> 44891.562 | AV20: =AV7*Supuestos!$M$23 -> 52842.158 | AW20: =AW7*Supuestos!$M$23 -> 47933.181 | ... BA20: =BA7*Supuestos!$M$23 -> 65263.683 | BB20: =BB7*Supuestos!$N$23 -> 43671.075 | BC20: =BC7*Supuestos!$N$23 -> 42355.776 | BD20: =BD7*Supuestos!$N$23 -> 55213.988 | BE20: =BE7*Supuestos!$N$23 -> 46835.808 | BF20: =BF7*Supuestos!$N$23 -> 55941.449 | BG20: =BG7*Supuestos!$N$23 -> 48500.237 | BH20: =BH7*Supuestos!$N$23 -> 57089.953 | BI20: =BI7*Supuestos!$N$23 -> 51786.361 | ... BM20: =BM7*Supuestos!$N$23 -> 70510.001 | BN20: =BN7*Supuestos!$O$23 -> 45341.492 | BO20: =BO7*Supuestos!$O$23 -> 43975.882 | BP20: =BP7*Supuestos!$O$23 -> 57325.92 | BQ20: =BQ7*Supuestos!$O$23 -> 48627.275 | BR20: =BR7*Supuestos!$O$23 -> 58081.206 | BS20: =BS7*Supuestos!$O$23 -> 50355.368 | BT20: =BT7*Supuestos!$O$23 -> 59273.641 | BU20: =BU7*Supuestos!$O$23 -> 53767.186 | ... BY20: =BY7*Supuestos!$O$23 -> 73207.004 | BZ20: =BZ7*Supuestos!$P$23 -> 46828.035 | CA20: =CA7*Supuestos!$P$23 -> 45417.653 | CB20: =CB7*Supuestos!$P$23 -> 59205.379 | CC20: =CC7*Supuestos!$P$23 -> 50221.544 | CD20: =CD7*Supuestos!$P$23 -> 59985.427 | CE20: =CE7*Supuestos!$P$23 -> 52006.294 | CF20: =CF7*Supuestos!$P$23 -> 61216.956 | CG20: =CG7*Supuestos!$P$23 -> 55529.97 | ... CK20: =CK7*Supuestos!$P$23 -> 75607.132 | CL20: =CL7*Supuestos!$Q$23 -> 48077.561 | CM20: =CM7*Supuestos!$Q$23 -> 46629.546 | CN20: =CN7*Supuestos!$Q$23 -> 60785.173 | CO20: =CO7*Supuestos!$Q$23 -> 51561.62 | CP20: =CP7*Supuestos!$Q$23 -> 61586.036 | CQ20: =CQ7*Supuestos!$Q$23 -> 53393.993 | CR20: =CR7*Supuestos!$Q$23 -> 62850.426 | CS20: =CS7*Supuestos!$Q$23 -> 57011.693 | ... CW20: =CW7*Supuestos!$Q$23 -> 77624.579 | CX20: =CX7*Supuestos!$R$23 -> 50384.211 | CY20: =CY7*Supuestos!$R$23 -> 48866.724 | CZ20: =CZ7*Supuestos!$R$23 -> 63701.505 | DA20: =DA7*Supuestos!$R$23 -> 54035.427 | DB20: =DB7*Supuestos!$R$23 -> 64540.791 | DC20: =DC7*Supuestos!$R$23 -> 55955.714 | DD20: =DD7*Supuestos!$R$23 -> 65865.845 | DE20: =DE7*Supuestos!$R$23 -> 59746.982 | ... DI20: =DI7*Supuestos!$R$23 -> 81348.828 | DJ20: =DJ7*Supuestos!$S$23 -> 52650.223 | DK20: =DK7*Supuestos!$S$23 -> 51064.487 | DL20: =DL7*Supuestos!$S$23 -> 66566.457 | DM20: =DM7*Supuestos!$S$23 -> 56465.651 | DN20: =DN7*Supuestos!$S$23 -> 67443.49 | DO20: =DO7*Supuestos!$S$23 -> 58472.301 | DP20: =DP7*Supuestos!$S$23 -> 68828.137 | DQ20: =DQ7*Supuestos!$S$23 -> 62434.08 | DS20: =SUM(B20:E20) -> 169597.74 | DT20: =SUM(F20:Q20) -> 520130.36 | DU20: =SUM(R20:AC20) -> 571005.26 | DV20: =SUM(AD20:AO20) -> 542571.67 | DW20: =SUM(AP20:BA20) -> 582689.23 | DX20: =SUM(BB20:BM20) -> 629529.57 | DY20: =SUM(BN20:BY20) -> 653609.04 | DZ20: =SUM(BZ20:CK20) -> 675037.93 | EA20: =SUM(CL20:CW20) -> 693050.17 | EB20: =SUM(CX20:DI20) -> 726301.11 | EC20: =SUM(DJ20:DQ20) -> 483924.82 | EE20: =SUM(DS20:EC20) -> 6247446.9
A21: Otros | B21: =B7*Supuestos!$I$24 -> 277868.77 | C21: =C7*Supuestos!$I$24 -> 280099.21 | D21: =D7*Supuestos!$I$24 -> 270398.97 | E21: =E7*Supuestos!$I$24 -> 370551.53 | F21: =F7*Supuestos!$J$24 -> 249012.71 | G21: =G7*Supuestos!$J$24 -> 241512.87 | H21: =H7*Supuestos!$J$24 -> 314830.46 | I21: =I7*Supuestos!$J$24 -> 267058.03 | J21: =J7*Supuestos!$J$24 -> 318978.45 | K21: =K7*Supuestos!$J$24 -> 276548.62 | L21: =L7*Supuestos!$J$24 -> 325527.23 | M21: =M7*Supuestos!$J$24 -> 295286.12 | ... Q21: =Q7*Supuestos!$J$24 -> 402048.41 | R21: =R7*Supuestos!$K$24 -> 267688.67 | S21: =S7*Supuestos!$K$24 -> 259626.34 | T21: =T7*Supuestos!$K$24 -> 338442.75 | U21: =U7*Supuestos!$K$24 -> 287087.38 | V21: =V7*Supuestos!$K$24 -> 342901.83 | W21: =W7*Supuestos!$K$24 -> 297289.76 | X21: =X7*Supuestos!$K$24 -> 349941.77 | Y21: =Y7*Supuestos!$K$24 -> 317432.57 | ... AC21: =AC7*Supuestos!$K$24 -> 432202.04 | AD21: =AD7*Supuestos!$L$24 -> 285088.43 | AE21: =AE7*Supuestos!$L$24 -> 276502.05 | AF21: =AF7*Supuestos!$L$24 -> 360441.53 | AG21: =AG7*Supuestos!$L$24 -> 305748.06 | AH21: =AH7*Supuestos!$L$24 -> 365190.45 | AI21: =AI7*Supuestos!$L$24 -> 316613.6 | AJ21: =AJ7*Supuestos!$L$24 -> 372687.98 | AK21: =AK7*Supuestos!$L$24 -> 338065.69 | ... AO21: =AO7*Supuestos!$L$24 -> 460295.18 | AP21: =AP7*Supuestos!$M$24 -> 299342.85 | AQ21: =AQ7*Supuestos!$M$24 -> 290327.15 | AR21: =AR7*Supuestos!$M$24 -> 378463.6 | AS21: =AS7*Supuestos!$M$24 -> 321035.47 | AT21: =AT7*Supuestos!$M$24 -> 383449.97 | AU21: =AU7*Supuestos!$M$24 -> 332444.28 | AV21: =AV7*Supuestos!$M$24 -> 391322.38 | AW21: =AW7*Supuestos!$M$24 -> 354968.98 | ... BA21: =BA7*Supuestos!$M$24 -> 483309.93 | BB21: =BB7*Supuestos!$N$24 -> 311316.56 | BC21: =BC7*Supuestos!$N$24 -> 301940.24 | BD21: =BD7*Supuestos!$N$24 -> 393602.15 | BE21: =BE7*Supuestos!$N$24 -> 333876.89 | BF21: =BF7*Supuestos!$N$24 -> 398787.97 | BG21: =BG7*Supuestos!$N$24 -> 345742.05 | BH21: =BH7*Supuestos!$N$24 -> 406975.28 | BI21: =BI7*Supuestos!$N$24 -> 369167.73 | ... BM21: =BM7*Supuestos!$N$24 -> 502642.33 | BN21: =BN7*Supuestos!$O$24 -> 323769.23 | BO21: =BO7*Supuestos!$O$24 -> 314017.84 | BP21: =BP7*Supuestos!$O$24 -> 409346.23 | BQ21: =BQ7*Supuestos!$O$24 -> 347231.96 | BR21: =BR7*Supuestos!$O$24 -> 414739.49 | BS21: =BS7*Supuestos!$O$24 -> 359571.73 | BT21: =BT7*Supuestos!$O$24 -> 423254.29 | BU21: =BU7*Supuestos!$O$24 -> 383934.44 | ... BY21: =BY7*Supuestos!$O$24 -> 522748.03 | BZ21: =BZ7*Supuestos!$P$24 -> 336720 | CA21: =CA7*Supuestos!$P$24 -> 326578.56 | CB21: =CB7*Supuestos!$P$24 -> 425720.08 | CC21: =CC7*Supuestos!$P$24 -> 361121.24 | CD21: =CD7*Supuestos!$P$24 -> 431329.07 | CE21: =CE7*Supuestos!$P$24 -> 373954.6 | CF21: =CF7*Supuestos!$P$24 -> 440184.46 | CG21: =CG7*Supuestos!$P$24 -> 399291.82 | ... CK21: =CK7*Supuestos!$P$24 -> 543657.95 | CL21: =CL7*Supuestos!$Q$24 -> 350188.8 | CM21: =CM7*Supuestos!$Q$24 -> 339641.7 | CN21: =CN7*Supuestos!$Q$24 -> 442748.89 | CO21: =CO7*Supuestos!$Q$24 -> 375566.09 | CP21: =CP7*Supuestos!$Q$24 -> 448582.23 | CQ21: =CQ7*Supuestos!$Q$24 -> 388912.79 | CR21: =CR7*Supuestos!$Q$24 -> 457791.84 | CS21: =CS7*Supuestos!$Q$24 -> 415263.49 | ... CW21: =CW7*Supuestos!$Q$24 -> 565404.26 | CX21: =CX7*Supuestos!$R$24 -> 364196.35 | CY21: =CY7*Supuestos!$R$24 -> 353227.37 | CZ21: =CZ7*Supuestos!$R$24 -> 460458.84 | DA21: =DA7*Supuestos!$R$24 -> 390588.73 | DB21: =DB7*Supuestos!$R$24 -> 466525.52 | DC21: =DC7*Supuestos!$R$24 -> 404469.3 | DD21: =DD7*Supuestos!$R$24 -> 476103.51 | DE21: =DE7*Supuestos!$R$24 -> 431874.03 | ... DI21: =DI7*Supuestos!$R$24 -> 588020.43 | DJ21: =DJ7*Supuestos!$S$24 -> 378764.2 | DK21: =DJ21 -> 378764.2 | DL21: =DK21 -> 378764.2 | DM21: =DL21 -> 378764.2 | DN21: =DM21 -> 378764.2 | DO21: =DN21 -> 378764.2 | DP21: =DO21 -> 378764.2 | DQ21: =DP21 -> 378764.2 | DS21: =SUM(B21:E21) -> 1198918.5 | DT21: =SUM(F21:Q21) -> 3589581 | DU21: =SUM(R21:AC21) -> 3858799.6 | DV21: =SUM(AD21:AO21) -> 4109621.6 | DW21: =SUM(AP21:BA21) -> 4315102.7 | DX21: =SUM(BB21:BM21) -> 4487706.8 | DY21: =SUM(BN21:BY21) -> 4667215.1 | DZ21: =SUM(BZ21:CK21) -> 4853903.7 | EA21: =SUM(CL21:CW21) -> 5048059.8 | EB21: =SUM(CX21:DI21) -> 5249982.2 | EC21: =SUM(DJ21:DQ21) -> 3030113.6 | EE21: =SUM(DS21:EC21) -> 44409005
A24: TOTAL GASTOS OPERACIONALES | B24: =SUM(B19:B23) -> 825068.74 | C24: =SUM(C19:C23) -> 831691.51 | D24: =SUM(D19:D23) -> 802888.85 | E24: =SUM(E19:E23) -> 1100269.3 | F24: =SUM(F19:F23) -> 740244.03 | G24: =SUM(G19:G23) -> 717949.13 | H24: =SUM(H19:H23) -> 935901.51 | I24: =SUM(I19:I23) -> 793887.64 | ... DQ24: =SUM(DQ19:DQ23) -> 1261809.1 | DS24: =SUM(DS19:DS23) -> 3559918.4 | DT24: =SUM(DT19:DT23) -> 10670804 | DU24: =SUM(DU19:DU23) -> 11482980 | DV24: =SUM(DV19:DV23) -> 12011953 | DW24: =SUM(DW19:DW23) -> 12911718 | DX24: =SUM(DX19:DX23) -> 13313125 | DY24: =SUM(DY19:DY23) -> 13843132 | DZ24: =SUM(DZ19:DZ23) -> 14390373 | ... EC24: =SUM(EC19:EC23) -> 9874570.1 | EE24: =SUM(DS24:EC24) -> 1.3260793e+08
A26: = EBITDA | B26: =B12-B24 -> 116986.04 | C26: =C12-C24 -> 117925.08 | D26: =D12-D24 -> 113841.17 | E26: =E12-E24 -> 156006.58 | F26: =F12-F24 -> 180961.38 | G26: =G12-G24 -> 175511.13 | H26: =H12-H24 -> 228792.16 | I26: =I12-I24 -> 194075.19 | ... DQ26: =DQ12-DQ24 -> 251677.92 | DS26: =DS12-DS24 -> 504758.87 | DT26: =DT12-DT24 -> 2608604 | DU26: =DU12-DU24 -> 1599456.8 | DV26: =DV12-DV24 -> 1920841.8 | DW26: =DW12-DW24 -> 1717717 | DX26: =DX12-DX24 -> 1901486.8 | DY26: =DY12-DY24 -> 2461013.2 | DZ26: =DZ12-DZ24 -> 2565937.6 | ... EC26: =EC12-EC24 -> 1856425.8 | EE26: =SUM(DS26:EC26) -> 21287964
A27: Margen EBITDA | B27: =B26/B7 -> 0.040855807 | C27: =C26/C7 -> 0.040855807 | D27: =D26/D7 -> 0.040855807 | E27: =E26/E7 -> 0.040855807 | F27: =F26/F7 -> 0.070521878 | G27: =G26/G7 -> 0.070521878 | H27: =H26/H7 -> 0.070521878 | I27: =I26/I7 -> 0.070521878 | ... DQ27: =DQ26/DQ7 -> 0.054376866 | DS27: =DS26/DS7 -> 0.040855807 | DT27: =DT26/DT7 -> 0.070521878 | DU27: =DU26/DU7 -> 0.040223491 | DV27: =DV26/DV7 -> 0.045357513 | DW27: =DW26/DW7 -> 0.038629577 | DX27: =DX26/DX7 -> 0.041117653 | DY27: =DY26/DY7 -> 0.051170023 | DZ27: =DZ26/DZ7 -> 0.051299652 | ... EC27: =EC26/EC7 -> 0.051747631 | EE27: =AVERAGE(DS27:EC27) -> 0.046289497
A29: - Depreciación | B29: 32540 | C29: =B29 -> 32540 | D29: =C29 -> 32540 | E29: =D29 -> 32540 | F29: =E29 -> 32540 | G29: =F29 -> 32540 | H29: =G29 -> 32540 | I29: =H29 -> 32540 | J29: =I29 -> 32540 | ... DQ29: =DP29 -> 32540 | DS29: =SUM(B29:E29) -> 130160 | DT29: =SUM(F29:Q29) -> 390480 | DU29: =SUM(R29:AC29) -> 390480 | DV29: =SUM(AD29:AO29) -> 390480 | DW29: =SUM(AP29:BA29) -> 390480 | DX29: =SUM(BB29:BM29) -> 390480 | DY29: =SUM(BN29:BY29) -> 390480 | DZ29: =SUM(BZ29:CK29) -> 390480 | EA29: =SUM(CL29:CW29) -> 390480 | EB29: =SUM(CX29:DI29) -> 390480 | EC29: =SUM(DJ29:DQ29) -> 260320 | EE29: =SUM(DS29:EC29) -> 3904800
A31: = UTILIDAD OPERACIONAL | B31: =B26-B29 -> 84446.042 | C31: =C26-C29 -> 85385.081 | D31: =D26-D29 -> 81301.169 | E31: =E26-E29 -> 123466.58 | F31: =F26-F29 -> 148421.38 | G31: =G26-G29 -> 142971.13 | H31: =H26-H29 -> 196252.16 | I31: =I26-I29 -> 161535.19 | ... DQ31: =DQ26-DQ29 -> 219137.92 | DS31: =DS26-DS29 -> 374598.87 | DT31: =DT26-DT29 -> 2218124 | DU31: =DU26-DU29 -> 1208976.8 | DV31: =DV26-DV29 -> 1530361.8 | DW31: =DW26-DW29 -> 1327237 | DX31: =DX26-DX29 -> 1511006.8 | DY31: =DY26-DY29 -> 2070533.2 | DZ31: =DZ26-DZ29 -> 2175457.6 | ... EC31: =EC26-EC29 -> 1596105.8 | EE31: =SUM(DS31:EC31) -> 17383164
A32: Margen Operacional | B32: =B31/B7 -> 0.029491648 | C32: =C31/C7 -> 0.029582141 | D32: =D31/D7 -> 0.029177712 | E32: =E31/E7 -> 0.032334064 | F32: =F31/F7 -> 0.057840819 | G32: =G31/G7 -> 0.057447027 | H32: =H31/H7 -> 0.060491893 | I32: =I31/I7 -> 0.058697688 | ... DQ32: =DQ31/DQ7 -> 0.04734636 | DS32: =DS31/DS7 -> 0.030320496 | DT32: =DT31/DT7 -> 0.05996551 | DU32: =DU31/DU7 -> 0.030403614 | DV32: =DV31/DV7 -> 0.036136972 | DW32: =DW31/DW7 -> 0.029848109 | DX32: =DX31/DX7 -> 0.032673934 | DY32: =DY31/DY7 -> 0.043051061 | DZ32: =DZ31/DZ7 -> 0.043492958 | ... EC32: =EC31/EC7 -> 0.044491244 | EE32: =AVERAGE(DS32:EC32) -> 0.03762918
A35: Rendimientos Financieros | B35: 2832 | C35: =+IF(B71>0,B71*Supuestos!$C$3/360*30,0) -> 1374.9195 | D35: =+IF(C71>0,C71*Supuestos!$C$3/360*30,0) -> 1567.7864 | E35: =+IF(D71>0,D71*Supuestos!$C$3/360*30,0) -> 1752.6138 | F35: =+IF(E71>0,E71*Supuestos!$C$3/360*30,0) -> 1875.0953 | G35: =+IF(F71>0,F71*Supuestos!$C$3/360*30,0) -> 2452.8848 | H35: =+IF(G71>0,G71*Supuestos!$C$3/360*30,0) -> 3014.5762 | I35: =+IF(H71>0,H71*Supuestos!$C$3/360*30,0) -> 3766.3712 | J35: =+IF(I71>0,I71*Supuestos!$C$3/360*30,0) -> 4400.1893 | ... DQ35: =+IF(DP71>0,DP71*Supuestos!$C$3/360*30,0) -> 10663.69 | DS35: =SUM(B35:E35) -> 7527.3197 | DT35: =SUM(F35:Q35) -> 47897.824 | DU35: =SUM(R35:AC35) -> 25928.154 | DV35: =SUM(AD35:AO35) -> 25160.017 | DW35: =SUM(AP35:BA35) -> 25441.481 | DX35: =SUM(BB35:BM35) -> 24389.009 | DY35: =SUM(BN35:BY35) -> 32484.464 | DZ35: =SUM(BZ35:CK35) -> 53332.168 | EA35: =SUM(CL35:CW35) -> 71531.852 | EB35: =SUM(CX35:DI35) -> 80483.211 | EC35: =SUM(DJ35:DQ35) -> 65121.557 | EE35: =SUM(DS35:EC35) -> 459297.06
A37: + Ingresos No Operacionales | B37: =SUM(B35:B36) -> 2832 | C37: =SUM(C35:C36) -> 1374.9195 | D37: =SUM(D35:D36) -> 1567.7864 | E37: =SUM(E35:E36) -> 1752.6138 | F37: =SUM(F35:F36) -> 1875.0953 | G37: =SUM(G35:G36) -> 2452.8848 | H37: =SUM(H35:H36) -> 3014.5762 | I37: =SUM(I35:I36) -> 3766.3712 | ... DQ37: =SUM(DQ35:DQ36) -> 10663.69 | DS37: =SUM(DS35:DS36) -> 7527.3197 | DT37: =SUM(DT35:DT36) -> 47897.824 | DU37: =SUM(DU35:DU36) -> 25928.154 | DV37: =SUM(DV35:DV36) -> 25160.017 | DW37: =SUM(DW35:DW36) -> 25441.481 | DX37: =SUM(DX35:DX36) -> 24389.009 | DY37: =SUM(DY35:DY36) -> 32484.464 | DZ37: =SUM(DZ35:DZ36) -> 53332.168 | ... EC37: =SUM(EC35:EC36) -> 65121.557 | EE37: =SUM(DS37:EC37) -> 459297.06
A39: Comisión Pago TC | B39: =B7*Supuestos!$C$5 -> 55871.866 | C39: =C7*Supuestos!$C$5 -> 56320.346 | D39: =D7*Supuestos!$C$5 -> 54369.892 | E39: =E7*Supuestos!$C$5 -> 74507.852 | F39: =F7*Supuestos!$C$5 -> 50069.695 | G39: =G7*Supuestos!$C$5 -> 48561.681 | H39: =H7*Supuestos!$C$5 -> 63303.858 | I39: =I7*Supuestos!$C$5 -> 53698.119 | ... DQ39: =DQ7*Supuestos!$C$5 -> 90311.668 | DS39: =SUM(B39:E39) -> 241069.96 | DT39: =SUM(F39:Q39) -> 721767.29 | DU39: =SUM(R39:AC39) -> 775899.83 | DV39: =SUM(AD39:AO39) -> 826333.32 | DW39: =SUM(AP39:BA39) -> 867649.99 | DX39: =SUM(BB39:BM39) -> 902355.99 | DY39: =SUM(BN39:BY39) -> 938450.23 | DZ39: =SUM(BZ39:CK39) -> 975988.24 | EA39: =SUM(CL39:CW39) -> 1015027.8 | EB39: =SUM(CX39:DI39) -> 1055628.9 | EC39: =SUM(DJ39:DQ39) -> 700003.23 | EE39: =SUM(DS39:EC39) -> 9020174.7
A40: Leasing | B40: =Leasing!P48 -> 1254.2549 | C40: =Leasing!Q48 -> 1150.7573 | D40: =Leasing!R48 -> 1045.9056 | E40: =Leasing!S48 -> 939.68213 | F40: =Leasing!T48 -> 832.06887 | G40: =Leasing!U48 -> 753.80958 | H40: =Leasing!V48 -> 674.52639 | I40: =Leasing!W48 -> 594.20592 | ... R40: =Leasing!AF48 -> 0 | DS40: =SUM(B40:E40) -> 4390.6 | DT40: =SUM(F40:Q40) -> 4735.5821 | DU40: =SUM(R40:AC40) -> 0 | DV40: =SUM(AD40:AO40) -> 0 | DW40: =SUM(AP40:BA40) -> 0 | DX40: =SUM(BB40:BM40) -> 0 | DY40: =SUM(BN40:BY40) -> 0 | DZ40: =SUM(BZ40:CK40) -> 0 | EA40: =SUM(CL40:CW40) -> 0 | EB40: =SUM(CX40:DI40) -> 0 | EC40: =SUM(DJ40:DQ40) -> 0 | EE40: =SUM(DS40:EC40) -> 9126.1821
A41: Comisiones bancarias | B41: =B7*Supuestos!$C$6 -> 572.67768 | C41: =C7*Supuestos!$C$6 -> 577.27452 | D41: =D7*Supuestos!$C$6 -> 557.28269 | E41: =E7*Supuestos!$C$6 -> 763.69355 | F41: =F7*Supuestos!$C$6 -> 513.20636 | G41: =G7*Supuestos!$C$6 -> 497.74945 | H41: =H7*Supuestos!$C$6 -> 648.85441 | I41: =I7*Supuestos!$C$6 -> 550.39712 | ... DQ41: =DQ7*Supuestos!$C$6 -> 925.68014 | DS41: =SUM(B41:E41) -> 2470.9284 | DT41: =SUM(F41:Q41) -> 7397.9991 | DU41: =SUM(R41:AC41) -> 7952.849 | DV41: =SUM(AD41:AO41) -> 8469.7842 | DW41: =SUM(AP41:BA41) -> 8893.2734 | DX41: =SUM(BB41:BM41) -> 9249.0044 | DY41: =SUM(BN41:BY41) -> 9618.9645 | DZ41: =SUM(BZ41:CK41) -> 10003.723 | EA41: =SUM(CL41:CW41) -> 10403.872 | EB41: =SUM(CX41:DI41) -> 10820.027 | EC41: =SUM(DJ41:DQ41) -> 7174.921 | EE41: =SUM(DS41:EC41) -> 92455.346
A42: 4*1000 | B42: =(B7+B37)*Supuestos!$C$4 -> 11464.882 | C42: =(C7+C37)*Supuestos!$C$4 -> 11550.99 | D42: =(D7+D37)*Supuestos!$C$4 -> 11151.925 | E42: =(E7+E37)*Supuestos!$C$4 -> 15280.882 | F42: =(F7+F37)*Supuestos!$C$4 -> 10271.628 | G42: =(G7+G37)*Supuestos!$C$4 -> 9964.8006 | H42: =(H7+H37)*Supuestos!$C$4 -> 12989.147 | I42: =(I7+I37)*Supuestos!$C$4 -> 11023.008 | ... DQ42: =(DQ7+DQ37)*Supuestos!$C$4 -> 18556.257 | DS42: =SUM(B42:E42) -> 49448.678 | DT42: =SUM(F42:Q42) -> 148151.57 | DU42: =SUM(R42:AC42) -> 159160.69 | DV42: =SUM(AD42:AO42) -> 169496.32 | DW42: =SUM(AP42:BA42) -> 177967.23 | DX42: =SUM(BB42:BM42) -> 185077.64 | DY42: =SUM(BN42:BY42) -> 192509.23 | DZ42: =SUM(BZ42:CK42) -> 200287.79 | EA42: =SUM(CL42:CW42) -> 208363.57 | EB42: =SUM(CX42:DI42) -> 216722.47 | EC42: =SUM(DJ42:DQ42) -> 143758.91 | EE42: =SUM(DS42:EC42) -> 1850944.1
A43: - Gastos No Operacionales | B43: =SUM(B39:B42) -> 69163.68 | C43: =SUM(C39:C42) -> 69599.368 | D43: =SUM(D39:D42) -> 67125.005 | E43: =SUM(E39:E42) -> 91492.109 | F43: =SUM(F39:F42) -> 61686.598 | G43: =SUM(G39:G42) -> 59778.04 | H43: =SUM(H39:H42) -> 77616.386 | I43: =SUM(I39:I42) -> 65865.73 | ... DQ43: =SUM(DQ39:DQ42) -> 109793.61 | DS43: =SUM(DS39:DS42) -> 297380.16 | DT43: =SUM(DT39:DT42) -> 882052.44 | DU43: =SUM(DU39:DU42) -> 943013.38 | DV43: =SUM(DV39:DV42) -> 1004299.4 | DW43: =SUM(DW39:DW42) -> 1054510.5 | DX43: =SUM(DX39:DX42) -> 1096682.6 | DY43: =SUM(DY39:DY42) -> 1140578.4 | DZ43: =SUM(DZ39:DZ42) -> 1186279.8 | ... EC43: =SUM(EC39:EC42) -> 850937.06 | EE43: =SUM(DS43:EC43) -> 10972700
A45: = UTILIDAD ANTES DE IMPUESTO | B45: =B31+B37-B43 -> 18114.362 | C45: =C31+C37-C43 -> 17160.633 | D45: =D31+D37-D43 -> 15743.95 | E45: =E31+E37-E43 -> 33727.085 | F45: =F31+F37-F43 -> 88609.878 | G45: =G31+G37-G43 -> 85645.975 | H45: =H31+H37-H43 -> 121650.35 | I45: =I31+I37-I43 -> 99435.835 | ... DQ45: =DQ31+DQ37-DQ43 -> 120008.01 | DS45: =DS31+DS37-DS43 -> 84746.031 | DT45: =DT31+DT37-DT43 -> 1383969.3 | DU45: =DU31+DU37-DU43 -> 291891.55 | DV45: =DV31+DV37-DV43 -> 551222.34 | DW45: =DW31+DW37-DW43 -> 298167.95 | DX45: =DX31+DX37-DX43 -> 438713.15 | DY45: =DY31+DY37-DY43 -> 962439.21 | DZ45: =DZ31+DZ37-DZ43 -> 1042510 | ... EC45: =EC31+EC37-EC43 -> 810290.31 | EE45: =SUM(DS45:EC45) -> 6869760.5
A47: - Renta | E47: =+IF(SUM(B45:E45)>0,SUM(B45:E45)*Supuestos!$C$10,0) -> 29661.111 | Q47: =+IF(SUM(F45:Q45)>0,SUM(F45:Q45)*Supuestos!$C$10,0) -> 484389.27 | AC47: =+IF(SUM(R45:AC45)>0,SUM(R45:AC45)*Supuestos!$C$10,0) -> 102162.04 | AO47: =+IF(SUM(AD45:AO45)>0,SUM(AD45:AO45)*Supuestos!$C$10,0) -> 192927.82 | BA47: =+IF(SUM(AP45:BA45)>0,SUM(AP45:BA45)*Supuestos!$C$10,0) -> 104358.78 | BM47: =+IF(SUM(BB45:BM45)>0,SUM(BB45:BM45)*Supuestos!$C$10,0) -> 153549.6 | BY47: =+IF(SUM(BN45:BY45)>0,SUM(BN45:BY45)*Supuestos!$C$10,0) -> 336853.72 | CK47: =+IF(SUM(BZ45:CK45)>0,SUM(BZ45:CK45)*Supuestos!$C$10,0) -> 364878.49 | CW47: =+IF(SUM(CL45:CW45)>0,SUM(CL45:CW45)*Supuestos!$C$10,0) -> 175978.46 | DI47: =+IF(SUM(CX45:DI45)>0,SUM(CX45:DI45)*Supuestos!$C$10,0) -> 176055.25 | DQ47: =+IF(SUM(DJ45:DQ45)>0,SUM(DJ45:DQ45)*Supuestos!$C$10,0) -> 283601.61 | DS47: =SUM(B47:E47) -> 29661.111 | DT47: =SUM(F47:Q47) -> 484389.27 | DU47: =SUM(R47:AC47) -> 102162.04 | DV47: =SUM(AD47:AO47) -> 192927.82 | DW47: =SUM(AP47:BA47) -> 104358.78 | DX47: =SUM(BB47:BM47) -> 153549.6 | DY47: =SUM(BN47:BY47) -> 336853.72 | DZ47: =SUM(BZ47:CK47) -> 364878.49 | EA47: =SUM(CL47:CW47) -> 175978.46 | EB47: =SUM(CX47:DI47) -> 176055.25 | EC47: =SUM(DJ47:DQ47) -> 283601.61 | EE47: =SUM(DS47:EC47) -> 2404416.2
A49: = UTILIDAD NETA | B49: =B45-B47 -> 18114.362 | C49: =C45-C47 -> 17160.633 | D49: =D45-D47 -> 15743.95 | E49: =E45-E47 -> 4065.9745 | F49: =F45-F47 -> 88609.878 | G49: =G45-G47 -> 85645.975 | H49: =H45-H47 -> 121650.35 | I49: =I45-I47 -> 99435.835 | ... DQ49: =DQ45-DQ47 -> -163593.6 | DS49: =DS45-DS47 -> 55084.92 | DT49: =DT45-DT47 -> 899580.07 | DU49: =DU45-DU47 -> 189729.51 | DV49: =DV45-DV47 -> 358294.52 | DW49: =DW45-DW47 -> 193809.17 | DX49: =DX45-DX47 -> 285163.55 | DY49: =DY45-DY47 -> 625585.49 | DZ49: =DZ45-DZ47 -> 677631.48 | ... EC49: =EC45-EC47 -> 526688.7 | EE49: =SUM(DS49:EC49) -> 4465344.3
A50: Margen Neto | B50: =B49/B7 -> 0.0063261982 | F50: =F49/F7 -> 0.034531871 | G50: =G49/G7 -> 0.034413287 | H50: =H49/H7 -> 0.037496963 | I50: =I49/I7 -> 0.036132396 | J50: =J49/J7 -> 0.038087107 | K50: =K49/K7 -> 0.037046814 | L50: =L49/L7 -> 0.038738158 | M50: =M49/M7 -> 0.038199248 | ... DQ50: =DQ49/DQ7 -> -0.0353456 | DS50: =DS49/DS7 -> 0.0044586415 | DT50: =DT49/DT7 -> 0.024319551 | DU50: =DU49/DU7 -> 0.0047713594 | DV50: =DV49/DV7 -> 0.0084605348 | DW50: =DW49/DW7 -> 0.0043585564 | DX50: =DX49/DX7 -> 0.006166362 | DY50: =DY49/DY7 -> 0.013007335 | DZ50: =DZ49/DZ7 -> 0.013547586 | ... EC50: =EC49/EC7 -> 0.01468138 | EE50: =AVERAGE(DS50:EC50) -> 0.0096452286
DS51: 91000.332 | DT51: 171640.53 | DU51: 190615.88 | DV51: 357929.91 | DW51: 193810.72 | DX51: 284078.75 | DY51: 304820.31 | DZ51: 334480.42 | EA51: 373221.83 | EB51: 378520.18 | EC51: 303970.14
A54: + Depreciaciones | B54: 32540 | C54: =C29 -> 32540 | D54: =D29 -> 32540 | E54: =E29 -> 32540 | F54: =F29 -> 32540 | G54: =G29 -> 32540 | H54: =H29 -> 32540 | I54: =I29 -> 32540 | J54: =J29 -> 32540 | ... DQ54: =DQ29 -> 32540 | DS54: =SUM(B54:E54) -> 130160 | DT54: =SUM(F54:Q54) -> 390480 | DU54: =SUM(R54:AC54) -> 390480 | DV54: =SUM(AD54:AO54) -> 390480 | DW54: =SUM(AP54:BA54) -> 390480 | DX54: =SUM(BB54:BM54) -> 390480 | DY54: =SUM(BN54:BY54) -> 390480 | DZ54: =SUM(BZ54:CK54) -> 390480 | EA54: =SUM(CL54:CW54) -> 390480 | EB54: =SUM(CX54:DI54) -> 390480 | EC54: =SUM(DJ54:DQ54) -> 260320 | EE54: =SUM(DS54:EC54) -> 3904800
A55: - CAPEX | B55: =64938/12 -> 5411.5 | C55: =64938/12 -> 5411.5 | D55: =64938/12 -> 5411.5 | E55: =64938/12 -> 5411.5 | F55: =E55*(1+Supuestos!$M$13) -> 5979.7075 | G55: =F55 -> 5979.7075 | H55: =G55 -> 5979.7075 | I55: =H55 -> 5979.7075 | J55: =I55 -> 5979.7075 | K55: =J55 -> 5979.7075 | L55: =K55 -> 5979.7075 | M55: =L55 -> 5979.7075 | N55: =M55 -> 5979.7075 | ... Q55: =P55 -> 5979.7075 | R55: =Q55*(1+Supuestos!$N$13) -> 6487.9826 | S55: =R55 -> 6487.9826 | T55: =S55 -> 6487.9826 | U55: =T55 -> 6487.9826 | V55: =U55 -> 6487.9826 | W55: =V55 -> 6487.9826 | X55: =W55 -> 6487.9826 | Y55: =X55 -> 6487.9826 | Z55: =Y55 -> 6487.9826 | ... AC55: =AB55 -> 6487.9826 | AD55: =AC55*(1+Supuestos!$O$13) -> 6974.5813 | AE55: =AD55 -> 6974.5813 | AF55: =AE55 -> 6974.5813 | AG55: =AF55 -> 6974.5813 | AH55: =AG55 -> 6974.5813 | AI55: =AH55 -> 6974.5813 | AJ55: =AI55 -> 6974.5813 | AK55: =AJ55 -> 6974.5813 | AL55: =AK55 -> 6974.5813 | ... AO55: =AN55 -> 6974.5813 | AP55: =AO55*(1+Supuestos!$P$13) -> 7427.9291 | AQ55: =AP55 -> 7427.9291 | AR55: =AQ55 -> 7427.9291 | AS55: =AR55 -> 7427.9291 | AT55: =AS55 -> 7427.9291 | AU55: =AT55 -> 7427.9291 | AV55: =AU55 -> 7427.9291 | AW55: =AV55 -> 7427.9291 | AX55: =AW55 -> 7427.9291 | ... BA55: =AZ55 -> 7427.9291 | BB55: =BA55*(1+Supuestos!$Q$13) -> 7799.3256 | BC55: =BB55 -> 7799.3256 | BD55: =BC55 -> 7799.3256 | BE55: =BD55 -> 7799.3256 | BF55: =BE55 -> 7799.3256 | BG55: =BF55 -> 7799.3256 | BH55: =BG55 -> 7799.3256 | BI55: =BH55 -> 7799.3256 | BJ55: =BI55 -> 7799.3256 | ... BM55: =BL55 -> 7799.3256 | BN55: =BM55*(1+Supuestos!$R$13) -> 8111.2986 | BO55: =BN55 -> 8111.2986 | BP55: =BO55 -> 8111.2986 | BQ55: =BP55 -> 8111.2986 | BR55: =BQ55 -> 8111.2986 | BS55: =BR55 -> 8111.2986 | BT55: =BS55 -> 8111.2986 | BU55: =BT55 -> 8111.2986 | BV55: =BU55 -> 8111.2986 | ... BY55: =BX55 -> 8111.2986 | BZ55: =BY55*(1+Supuestos!$S$13) -> 8435.7505 | CA55: =BZ55 -> 8435.7505 | CB55: =CA55 -> 8435.7505 | CC55: =CB55 -> 8435.7505 | CD55: =CC55 -> 8435.7505 | CE55: =CD55 -> 8435.7505 | CF55: =CE55 -> 8435.7505 | CG55: =CF55 -> 8435.7505 | CH55: =CG55 -> 8435.7505 | ... CK55: =CJ55 -> 8435.7505 | CL55: =CK55*(1+Supuestos!$T$13) -> 8773.1806 | CM55: =CL55*(1+Supuestos!$T$13) -> 9124.1078 | CN55: =CM55*(1+Supuestos!$T$13) -> 9489.0721 | CO55: =CN55*(1+Supuestos!$T$13) -> 9868.635 | CP55: =CO55*(1+Supuestos!$T$13) -> 10263.38 | CQ55: =CP55*(1+Supuestos!$T$13) -> 10673.916 | CR55: =CQ55*(1+Supuestos!$T$13) -> 11100.872 | CS55: =CR55*(1+Supuestos!$T$13) -> 11544.907 | ... CW55: =CV55*(1+Supuestos!$T$13) -> 13505.908 | CX55: =CW55*(1+Supuestos!$U$13) -> 14046.145 | CY55: =CX55 -> 14046.145 | CZ55: =CY55 -> 14046.145 | DA55: =CZ55 -> 14046.145 | DB55: =DA55 -> 14046.145 | DC55: =DB55 -> 14046.145 | DD55: =DC55 -> 14046.145 | DE55: =DD55 -> 14046.145 | DF55: =DE55 -> 14046.145 | ... DI55: =DH55 -> 14046.145 | DJ55: =DI55*(1+Supuestos!$V$13) -> 14607.991 | DK55: =DJ55 -> 14607.991 | DL55: =DK55 -> 14607.991 | DM55: =DL55 -> 14607.991 | DN55: =DM55 -> 14607.991 | DO55: =DN55 -> 14607.991 | DP55: =DO55 -> 14607.991 | DQ55: =DP55 -> 14607.991 | DS55: =SUM(B55:E55) -> 21646 | DT55: =SUM(F55:Q55) -> 71756.49 | DU55: =SUM(R55:AC55) -> 77855.792 | DV55: =SUM(AD55:AO55) -> 83694.976 | DW55: =SUM(AP55:BA55) -> 89135.149 | DX55: =SUM(BB55:BM55) -> 93591.907 | DY55: =SUM(BN55:BY55) -> 97335.583 | DZ55: =SUM(BZ55:CK55) -> 101229.01 | EA55: =SUM(CL55:CW55) -> 131824.1 | EB55: =SUM(CX55:DI55) -> 168553.74 | EC55: =SUM(DJ55:DQ55) -> 116863.92 | EE55: =SUM(DS55:EC55) -> 1053486.7
A56: Leasing (Capital) | B56: =Leasing!P49 -> 7740.5643 | C56: =Leasing!Q49 -> 7841.8367 | D56: =Leasing!R49 -> 7944.434 | E56: =Leasing!S49 -> 8048.3737 | F56: =Leasing!T49 -> 5981.602 | G56: =Leasing!U49 -> 6059.8613 | H56: =Leasing!V49 -> 6139.1445 | I56: =Leasing!W49 -> 6219.465 | ... S56: =Leasing!AG49 -> 0 | DS56: =SUM(B56:E56) -> 31575.209 | DT56: =SUM(F56:Q56) -> 63597.621 | DU56: =SUM(R56:AC56) -> 0 | DV56: =SUM(AD56:AO56) -> 0 | DW56: =SUM(AP56:BA56) -> 0 | DX56: =SUM(BB56:BM56) -> 0 | DY56: =SUM(BN56:BY56) -> 0 | DZ56: =SUM(BZ56:CK56) -> 0 | EA56: =SUM(CL56:CW56) -> 0 | EB56: =SUM(CX56:DI56) -> 0 | EC56: =SUM(DJ56:DQ56) -> 0 | EE56: =SUM(DS56:EC56) -> 95172.829
A57: Clase 1- Laborales (Intereses) | B57: 0 | C57: 0 | D57: 0 | E57: 0 | F57: 0 | G57: 0 | H57: 0 | I57: 0 | J57: 0 | L57: 0 | M57: 0 | N57: =SUM('Graduación Acreencias'!C30:AW30) -> 4424.5886 | O57: 0 | P57: 0 | Q57: 0 | R57: 0 | S57: 0 | T57: 0 | U57: 0 | V57: 0 | W57: 0 | X57: ='Graduación Acreencias'!BH30+'Graduación Acreencias'!BH31 -> 0 | Y57: 0 | Z57: =SUM('Graduación Acreencias'!AX30:BI30) -> 1066.6669 | AA57: 0 | AB57: 0 | AC57: 0 | AD57: 0 | AE57: 0 | AF57: 0 | AG57: 0 | AH57: 0 | AI57: 0 | AJ57: 0 | AK57: 0 | AL57: 0 | AM57: 0 | AN57: 0 | AO57: 0 | AP57: 0 | AQ57: 0 | AR57: 0 | AS57: 0 | AT57: 0 | AU57: 0 | AV57: 0 | AW57: 0 | AX57: 0 | AY57: 0 | AZ57: 0 | BA57: 0 | BB57: 0 | BC57: 0 | BD57: 0 | BE57: 0 | BF57: 0 | BG57: 0 | BH57: 0 | BI57: 0 | BJ57: 0 | BK57: 0 | BL57: 0 | BM57: 0 | BN57: 0 | BO57: 0 | BP57: 0 | BQ57: 0 | BR57: 0 | BS57: 0 | BT57: 0 | BU57: 0 | BV57: 0 | BW57: 0 | BX57: 0 | BY57: 0 | BZ57: 0 | CA57: 0 | CB57: 0 | CC57: 0 | CD57: 0 | CE57: 0 | CF57: 0 | CG57: 0 | CH57: 0 | CI57: 0 | CJ57: 0 | CK57: 0 | CL57: 0 | CM57: 0 | CN57: 0 | CO57: 0 | CP57: 0 | CQ57: 0 | CR57: 0 | CS57: 0 | CT57: 0 | CU57: 0 | CV57: 0 | CW57: 0 | CX57: 0 | CY57: 0 | CZ57: 0 | DA57: 0 | DB57: 0 | DC57: 0 | DD57: 0 | DE57: 0 | DF57: 0 | DG57: 0 | DH57: 0 | DI57: 0 | DJ57: 0 | DK57: 0 | DL57: 0 | DM57: 0 | DN57: 0 | DO57: 0 | DP57: 0 | DQ57: 0 | DS57: =SUM(B57:E57) -> 0 | DT57: =SUM(F57:Q57) -> 4424.5886 | DU57: =SUM(R57:AC57) -> 1066.6669 | DV57: =SUM(AD57:AO57) -> 0 | DW57: =SUM(AP57:BA57) -> 0 | DX57: =SUM(BB57:BM57) -> 0 | DY57: =SUM(BN57:BY57) -> 0 | DZ57: =SUM(BZ57:CK57) -> 0 | EA57: =SUM(CL57:CW57) -> 0 | EB57: =SUM(CX57:DI57) -> 0 | EC57: =SUM(DJ57:DQ57) -> 0 | EE57: =SUM(DS57:EC57) -> 5491.2555
A58: Clase 1- Capital (Capital) | B58: 0 | C58: 0 | D58: 0 | E58: 0 | F58: 0 | G58: 0 | H58: 0 | I58: 0 | J58: 0 | K58: 0 | L58: 0 | M58: 0 | N58: 0 | O58: 0 | P58: 0 | Q58: 0 | R58: 0 | S58: 0 | T58: 0 | U58: 0 | V58: 0 | W58: 0 | Y58: 0 | Z58: ='Graduación Acreencias'!BI31 -> 13856 | AA58: 0 | AB58: 0 | AC58: 0 | AD58: 0 | AE58: 0 | AF58: 0 | AG58: 0 | AH58: 0 | AI58: 0 | AJ58: 0 | AK58: 0 | AL58: 0 | AM58: 0 | AN58: 0 | AO58: 0 | AP58: 0 | AQ58: 0 | AR58: 0 | AS58: 0 | AT58: 0 | AU58: 0 | AV58: 0 | AW58: 0 | AX58: 0 | AY58: 0 | AZ58: 0 | BA58: 0 | BB58: 0 | BC58: 0 | BD58: 0 | BE58: 0 | BF58: 0 | BG58: 0 | BH58: 0 | BI58: 0 | BJ58: 0 | BK58: 0 | BL58: 0 | BM58: 0 | BN58: 0 | BO58: 0 | BP58: 0 | BQ58: 0 | BR58: 0 | BS58: 0 | BT58: 0 | BU58: 0 | BV58: 0 | BW58: 0 | BX58: 0 | BY58: 0 | BZ58: 0 | CA58: 0 | CB58: 0 | CC58: 0 | CD58: 0 | CE58: 0 | CF58: 0 | CG58: 0 | CH58: 0 | CI58: 0 | CJ58: 0 | CK58: 0 | CL58: 0 | CM58: 0 | CN58: 0 | CO58: 0 | CP58: 0 | CQ58: 0 | CR58: 0 | CS58: 0 | CT58: 0 | CU58: 0 | CV58: 0 | CW58: 0 | CX58: 0 | CY58: 0 | CZ58: 0 | DA58: 0 | DB58: 0 | DC58: 0 | DD58: 0 | DE58: 0 | DF58: 0 | DG58: 0 | DH58: 0 | DI58: 0 | DJ58: 0 | DK58: 0 | DL58: 0 | DM58: 0 | DN58: 0 | DO58: 0 | DP58: 0 | DQ58: 0 | DS58: =SUM(B58:E58) -> 0 | DT58: =SUM(F58:Q58) -> 0 | DU58: =SUM(R58:AC58) -> 13856 | DV58: =SUM(AD58:AO58) -> 0 | DW58: =SUM(AP58:BA58) -> 0 | DX58: =SUM(BB58:BM58) -> 0 | DY58: =SUM(BN58:BY58) -> 0 | DZ58: =SUM(BZ58:CK58) -> 0 | EA58: =SUM(CL58:CW58) -> 0 | EB58: =SUM(CX58:DI58) -> 0 | EC58: =SUM(DJ58:DQ58) -> 0 | EE58: =SUM(DS58:EC58) -> 13856
A59: Clase 1- Fiscales y Parafiscales (Intereses) | B59: 0 | C59: 0 | D59: 0 | E59: 0 | F59: 0 | G59: 0 | H59: 0 | I59: 0 | J59: 0 | L59: 0 | M59: 0 | N59: =SUM('Graduación Acreencias'!C36:AW36) -> 1611.5654 | O59: 0 | P59: 0 | Q59: 0 | R59: 0 | S59: 0 | T59: 0 | U59: 0 | V59: 0 | W59: 0 | X59: ='Graduación Acreencias'!BH36+'Graduación Acreencias'!BH37 -> 0 | Y59: 0 | Z59: =SUM('Graduación Acreencias'!AX36:BI36) -> 376.08095 | AA59: 0 | AB59: 0 | AC59: 0 | AD59: 0 | AE59: 0 | AF59: 0 | AG59: 0 | AH59: 0 | AI59: 0 | AJ59: 0 | AK59: 0 | AL59: 0 | AM59: 0 | AN59: 0 | AO59: 0 | AP59: 0 | AQ59: 0 | AR59: 0 | AS59: 0 | AT59: 0 | AU59: 0 | AV59: 0 | AW59: 0 | AX59: 0 | AY59: 0 | AZ59: 0 | BA59: 0 | BB59: 0 | BC59: 0 | BD59: 0 | BE59: 0 | BF59: 0 | BG59: 0 | BH59: 0 | BI59: 0 | BJ59: 0 | BK59: 0 | BL59: 0 | BM59: 0 | BN59: 0 | BO59: 0 | BP59: 0 | BQ59: 0 | BR59: 0 | BS59: 0 | BT59: 0 | BU59: 0 | BV59: 0 | BW59: 0 | BX59: 0 | BY59: 0 | BZ59: 0 | CA59: 0 | CB59: 0 | CC59: 0 | CD59: 0 | CE59: 0 | CF59: 0 | CG59: 0 | CH59: 0 | CI59: 0 | CJ59: 0 | CK59: 0 | CL59: 0 | CM59: 0 | CN59: 0 | CO59: 0 | CP59: 0 | CQ59: 0 | CR59: 0 | CS59: 0 | CT59: 0 | CU59: 0 | CV59: 0 | CW59: 0 | CX59: 0 | CY59: 0 | CZ59: 0 | DA59: 0 | DB59: 0 | DC59: 0 | DD59: 0 | DE59: 0 | DF59: 0 | DG59: 0 | DH59: 0 | DI59: 0 | DJ59: 0 | DK59: 0 | DL59: 0 | DM59: 0 | DN59: 0 | DO59: 0 | DP59: 0 | DQ59: 0 | DS59: =SUM(B59:E59) -> 0 | DT59: =SUM(F59:Q59) -> 1611.5654 | DU59: =SUM(R59:AC59) -> 376.08095 | DV59: =SUM(AD59:AO59) -> 0 | DW59: =SUM(AP59:BA59) -> 0 | DX59: =SUM(BB59:BM59) -> 0 | DY59: =SUM(BN59:BY59) -> 0 | DZ59: =SUM(BZ59:CK59) -> 0 | EA59: =SUM(CL59:CW59) -> 0 | EB59: =SUM(CX59:DI59) -> 0 | EC59: =SUM(DJ59:DQ59) -> 0 | EE59: =SUM(DS59:EC59) -> 1987.6463
A60: Clase 1- Fiscales y Parafiscales (capital) | B60: 0 | C60: 0 | D60: 0 | E60: 0 | F60: 0 | G60: 0 | H60: 0 | I60: 0 | J60: 0 | K60: 0 | L60: 0 | M60: 0 | N60: 0 | O60: 0 | P60: 0 | Q60: 0 | R60: 0 | S60: 0 | T60: 0 | U60: 0 | V60: 0 | W60: 0 | Y60: 0 | Z60: ='Graduación Acreencias'!BI37 -> 4885 | AA60: 0 | AB60: 0 | AC60: 0 | AD60: 0 | AE60: 0 | AF60: 0 | AG60: 0 | AH60: 0 | AI60: 0 | AJ60: 0 | AK60: 0 | AL60: 0 | AM60: 0 | AN60: 0 | AO60: 0 | AP60: 0 | AQ60: 0 | AR60: 0 | AS60: 0 | AT60: 0 | AU60: 0 | AV60: 0 | AW60: 0 | AX60: 0 | AY60: 0 | AZ60: 0 | BA60: 0 | BB60: 0 | BC60: 0 | BD60: 0 | BE60: 0 | BF60: 0 | BG60: 0 | BH60: 0 | BI60: 0 | BJ60: 0 | BK60: 0 | BL60: 0 | BM60: 0 | BN60: 0 | BO60: 0 | BP60: 0 | BQ60: 0 | BR60: 0 | BS60: 0 | BT60: 0 | BU60: 0 | BV60: 0 | BW60: 0 | BX60: 0 | BY60: 0 | BZ60: 0 | CA60: 0 | CB60: 0 | CC60: 0 | CD60: 0 | CE60: 0 | CF60: 0 | CG60: 0 | CH60: 0 | CI60: 0 | CJ60: 0 | CK60: 0 | CL60: 0 | CM60: 0 | CN60: 0 | CO60: 0 | CP60: 0 | CQ60: 0 | CR60: 0 | CS60: 0 | CT60: 0 | CU60: 0 | CV60: 0 | CW60: 0 | CX60: 0 | CY60: 0 | CZ60: 0 | DA60: 0 | DB60: 0 | DC60: 0 | DD60: 0 | DE60: 0 | DF60: 0 | DG60: 0 | DH60: 0 | DI60: 0 | DJ60: 0 | DK60: 0 | DL60: 0 | DM60: 0 | DN60: 0 | DO60: 0 | DP60: 0 | DQ60: 0 | DS60: =SUM(B60:E60) -> 0 | DT60: =SUM(F60:Q60) -> 0 | DU60: =SUM(R60:AC60) -> 4885 | DV60: =SUM(AD60:AO60) -> 0 | DW60: =SUM(AP60:BA60) -> 0 | DX60: =SUM(BB60:BM60) -> 0 | DY60: =SUM(BN60:BY60) -> 0 | DZ60: =SUM(BZ60:CK60) -> 0 | EA60: =SUM(CL60:CW60) -> 0 | EB60: =SUM(CX60:DI60) -> 0 | EC60: =SUM(DJ60:DQ60) -> 0 | EE60: =SUM(DS60:EC60) -> 4885
